BEGIN:VCALENDAR
VERSION:2.0
PRODID:-//DBIA-MAR - ECPv4.7.4//NONSGML v1.0//EN
CALSCALE:GREGORIAN
METHOD:PUBLISH
X-WR-CALNAME:DBIA-MAR
X-ORIGINAL-URL:https://www.dbiamidamerica.org
X-WR-CALDESC:Events for DBIA-MAR
BEGIN:VEVENT
DTSTART;TZID=America/Chicago:20240221T160000
DTEND;TZID=America/Chicago:20240221T180000
DTSTAMP:20260422T111153
CREATED:20231114T152648Z
LAST-MODIFIED:20240206T184313Z
UID:7791-1708531200-1708538400@www.dbiamidamerica.org
SUMMARY:St. Louis | Making Fixed Price Design Build\, Progressive
DESCRIPTION:Blue River Wastewater Treatment Plant Biosolids Improvements Project\, which is being delivered as fixed-price design build\, replaces the incineration process that had been part of the biosolids handling for Kansas City since the 1980’s with a thermal hydrolysis process (THP) which creates a Class A biosolids. The Design-Build team began work on the project in January 2021 and startup and commissioning is scheduled to begin in 2024 with many challenges along the way. Learn how we overcame the unique challenges while using a fixed-price design-build delivery within an existing facility. \n  \n  \n
URL:https://www.dbiamidamerica.org/event/st-louis-program/
LOCATION:Schlafly Bottleworks\, 7260 Southwest Ave.\, Maplewood\, MO\, 63143\, United States
CATEGORIES:Mid-America Region,St. Louis
END:VEVENT
END:VCALENDAR