BEGIN:VCALENDAR
VERSION:2.0
PRODID:-//DBIA-MAR - ECPv4.7.4//NONSGML v1.0//EN
CALSCALE:GREGORIAN
METHOD:PUBLISH
X-WR-CALNAME:DBIA-MAR
X-ORIGINAL-URL:https://www.dbiamidamerica.org
X-WR-CALDESC:Events for DBIA-MAR
BEGIN:VEVENT
DTSTART;TZID=America/Chicago:20230215T163000
DTEND;TZID=America/Chicago:20230215T180000
DTSTAMP:20260423T071507
CREATED:20221220T164231Z
LAST-MODIFIED:20230116T160541Z
UID:7014-1676478600-1676484000@www.dbiamidamerica.org
SUMMARY:St. Louis | Design-Build & Brews Event
DESCRIPTION:\nFive Keys to Success in Design-Build Done Right® \nSuccessful projects are built on trust\, transparency\, and collaboration. Taking the proper steps to establish goals\, navigate the design process\, provide cost and quality certainty\, and drive execution to the field can be the difference between success and failure. Design-Build project delivery creates the ideal recipe for creating a high performing\, solution-oriented team of stakeholders who begin every project with the end in mind. \nJoin McCarthy Building Companies’ Alex Belkofer – VDC Director and Matt Gosa – Design Integration Manager\, as we explore the Five Keys to Success in Design-Build Done Right® through practical applications to efficiently plan\, design\, construct\, and operate the built environment. \n  \n\n
URL:https://www.dbiamidamerica.org/event/stl-feb-dbbrews/
LOCATION:Rockwell Beer Company\, 1320 S. Vandeventer Ave.\, St. Louis\, MO\, 63110
CATEGORIES:Mid-America Region,St. Louis
END:VEVENT
END:VCALENDAR