BEGIN:VCALENDAR
VERSION:2.0
PRODID:-//DBIA-MAR - ECPv4.7.4//NONSGML v1.0//EN
CALSCALE:GREGORIAN
METHOD:PUBLISH
X-WR-CALNAME:DBIA-MAR
X-ORIGINAL-URL:https://www.dbiamidamerica.org
X-WR-CALDESC:Events for DBIA-MAR
BEGIN:VEVENT
DTSTART;TZID=America/Chicago:20250904T080000
DTEND;TZID=America/Chicago:20250904T170000
DTSTAMP:20260423T000128
CREATED:20250109T193046Z
LAST-MODIFIED:20250617T174020Z
UID:8527-1756972800-1757005200@www.dbiamidamerica.org
SUMMARY:Kansas City | Clay & Trap Shoot
DESCRIPTION: \n  \n \n  \n  \n  \n  \n \n
URL:https://www.dbiamidamerica.org/event/kcshoot25/
LOCATION:Powder Creek Shooting Park\, 8601 Monticello Rd\, Lenexa\, KS\, 66227\, United States
CATEGORIES:Kansas City,Mid-America Region,Next Gen
END:VEVENT
END:VCALENDAR