BEGIN:VCALENDAR
VERSION:2.0
PRODID:-//DBIA-MAR - ECPv4.7.4//NONSGML v1.0//EN
CALSCALE:GREGORIAN
METHOD:PUBLISH
X-WR-CALNAME:DBIA-MAR
X-ORIGINAL-URL:https://www.dbiamidamerica.org
X-WR-CALDESC:Events for DBIA-MAR
BEGIN:VEVENT
DTSTART;TZID=America/Chicago:20250618T163000
DTEND;TZID=America/Chicago:20250618T183000
DTSTAMP:20260423T044513
CREATED:20250603T145309Z
LAST-MODIFIED:20250603T145309Z
UID:8912-1750264200-1750271400@www.dbiamidamerica.org
SUMMARY:NextGen | Summer Kickoff Social in KC
DESCRIPTION: \n \n  \n  \n  \n  \n  \n
URL:https://www.dbiamidamerica.org/event/nextgen-summer-kickoff-social-in-kc/
LOCATION:Whiting-Turner Contracting Company\, 2519 Madison Avenue\, Suite 200\, Kansas City\, MO\, 64108
CATEGORIES:Kansas City,Mid-America Region,Next Gen
END:VEVENT
END:VCALENDAR