BEGIN:VCALENDAR
VERSION:2.0
PRODID:-//DBIA-MAR - ECPv4.7.4//NONSGML v1.0//EN
CALSCALE:GREGORIAN
METHOD:PUBLISH
X-WR-CALNAME:DBIA-MAR
X-ORIGINAL-URL:https://www.dbiamidamerica.org
X-WR-CALDESC:Events for DBIA-MAR
BEGIN:VEVENT
DTSTART;TZID=America/Chicago:20230823T080000
DTEND;TZID=America/Chicago:20230823T170000
DTSTAMP:20260424T233853
CREATED:20221220T170354Z
LAST-MODIFIED:20221220T170354Z
UID:7042-1692777600-1692810000@www.dbiamidamerica.org
SUMMARY:Nebraska | Program
DESCRIPTION:Save the Date! \nMore information coming soon. \n* Date and time subject to change. \n
URL:https://www.dbiamidamerica.org/event/nebraska-program-3/
CATEGORIES:Mid-America Region,Nebraska
END:VEVENT
END:VCALENDAR