BEGIN:VCALENDAR
VERSION:2.0
PRODID:-//DBIA-MAR - ECPv4.7.4//NONSGML v1.0//EN
CALSCALE:GREGORIAN
METHOD:PUBLISH
X-WR-CALNAME:DBIA-MAR
X-ORIGINAL-URL:https://www.dbiamidamerica.org
X-WR-CALDESC:Events for DBIA-MAR
BEGIN:VEVENT
DTSTART;TZID=America/Chicago:20230126T073000
DTEND;TZID=America/Chicago:20230126T090000
DTSTAMP:20260425T103612
CREATED:20221213T142911Z
LAST-MODIFIED:20221213T143000Z
UID:7006-1674718200-1674723600@www.dbiamidamerica.org
SUMMARY:Nebraska | Construction Industry 2023 Economic Update
DESCRIPTION:Presentation Featuring: \nKen Simonson – Chief Economist\, AGC of America \nDr. Eric Thompson – W.W. Marshall Associate Professor of Economics and Direct of the Bureau of Business Research at the University of Nebraska-Lincoln \nDiscussion Topic:\n– Ken will bring his unique national perspective of the economy relating to the Construction Industry. \n– Eric will provide the statewide economic perspective as it relates to development\, construction and renovation in vertical  construction and related industries.  He will also address the impact of the pandemic to the Nebraska economy and how it may or may not affect the construction industry locally. \n  \n
URL:https://www.dbiamidamerica.org/event/nebraska-construction-industry-2023-economic-update/
LOCATION:Scott Conference Center\, 6450 Pine Street\, Omaha\, NE\, 68106
CATEGORIES:Nebraska
END:VEVENT
END:VCALENDAR