BEGIN:VCALENDAR
VERSION:2.0
PRODID:-//DBIA-MAR - ECPv4.7.4//NONSGML v1.0//EN
CALSCALE:GREGORIAN
METHOD:PUBLISH
X-WR-CALNAME:DBIA-MAR
X-ORIGINAL-URL:https://www.dbiamidamerica.org
X-WR-CALDESC:Events for DBIA-MAR
BEGIN:VEVENT
DTSTART;TZID=America/Chicago:20231012T080000
DTEND;TZID=America/Chicago:20231012T093000
DTSTAMP:20260425T201619
CREATED:20230926T170217Z
LAST-MODIFIED:20230929T153241Z
UID:7667-1697097600-1697103000@www.dbiamidamerica.org
SUMMARY:Kansas | Implementing Integrated IT\, AV & Security Solutions
DESCRIPTION:Through the use of integrated systems and common communications platforms\, we can design-build buildings that are:\n• SMARTER\n• GREENER\n• LESS EXPENSIVE \nLearning Objectives:\na. Understand the best point in the design-build process to define the security and technology requirements for a project.\nb. Learn how integrating technology and security systems design into the overall building design-build process can produce much better outcomes.\nc. Learn what owners and occupants expect to be available in a modern facility.\nd. Understand how we can design-build our facilities with the future of technology in mind. \n  \n
URL:https://www.dbiamidamerica.org/event/kansas-oct23/
LOCATION:McCown Gordon\, 255 N. Mead\, Suite 200\, Wichita\, KS\, 67202
CATEGORIES:Kansas,Mid-America Region
END:VEVENT
END:VCALENDAR