BEGIN:VCALENDAR
VERSION:2.0
PRODID:-//DBIA-MAR - ECPv4.7.4//NONSGML v1.0//EN
CALSCALE:GREGORIAN
METHOD:PUBLISH
X-WR-CALNAME:DBIA-MAR
X-ORIGINAL-URL:https://www.dbiamidamerica.org
X-WR-CALDESC:Events for DBIA-MAR
BEGIN:VEVENT
DTSTART;TZID=America/Chicago:20231011T073000
DTEND;TZID=America/Chicago:20231011T090000
DTSTAMP:20260425T201618
CREATED:20221220T170622Z
LAST-MODIFIED:20230926T163623Z
UID:7048-1697009400-1697014800@www.dbiamidamerica.org
SUMMARY:Kansas City | Leveraging VDC in Design-Build
DESCRIPTION:Building Information Modeling (BIM) is a tool or the model-based technologies that produce a building information model that enables a highly collaborative Virtual Design & Construction (VDC) process throughout a project’s lifecycle. When combined\, project teams can take advantage of a forward-thinking environment where the integration of people\, process and technology can thrive. \nThe whole team approach inherent in Design-Build is an ideal environment for BIM/VDC to flourish (more than any other project delivery system)\, especially when you can take advantage of an\nintegrated project team from the outset\, creating a platform for success\, where all the client’s goals can be embraced early. \nIn addition to highlighting DBIA’s approach to VDC Done Right we’ll also hear from innovative VDC Leaders who will provide real-world examples of how VDC is driving value by enabling the merging of technology and project delivery to provide optimized outcomes for Owners. \n  \n  \n
URL:https://www.dbiamidamerica.org/event/oct23kc/
LOCATION:Grand Street Cafe\, 4740 Grand Avenue\, Kansas City\, MO\, 64112
CATEGORIES:Kansas City,Mid-America Region
END:VEVENT
END:VCALENDAR