BEGIN:VCALENDAR
VERSION:2.0
PRODID:-//DBIA-MAR - ECPv4.7.4//NONSGML v1.0//EN
CALSCALE:GREGORIAN
METHOD:PUBLISH
X-WR-CALNAME:DBIA-MAR
X-ORIGINAL-URL:https://www.dbiamidamerica.org
X-WR-CALDESC:Events for DBIA-MAR
BEGIN:VEVENT
DTSTART;TZID=America/Chicago:20250827T160000
DTEND;TZID=America/Chicago:20250827T180000
DTSTAMP:20260423T105329
CREATED:20250109T192714Z
LAST-MODIFIED:20250722T184257Z
UID:8525-1756310400-1756317600@www.dbiamidamerica.org
SUMMARY:Kansas City + NextGen | Happy Hour in KC
DESCRIPTION: \n  \n \n
URL:https://www.dbiamidamerica.org/event/kcnextgenhh/
LOCATION:Green Dirt on Oak\, 1601 Oak Street\, Kansas City\, MO\, 64108
CATEGORIES:Kansas City,Mid-America Region,Next Gen
END:VEVENT
END:VCALENDAR