BEGIN:VCALENDAR
VERSION:2.0
PRODID:-//DBIA-MAR - ECPv4.7.4//NONSGML v1.0//EN
CALSCALE:GREGORIAN
METHOD:PUBLISH
X-WR-CALNAME:DBIA-MAR
X-ORIGINAL-URL:https://www.dbiamidamerica.org
X-WR-CALDESC:Events for DBIA-MAR
BEGIN:VEVENT
DTSTART;TZID=America/Chicago:20230215T073000
DTEND;TZID=America/Chicago:20230215T090000
DTSTAMP:20260425T152745
CREATED:20230123T224537Z
LAST-MODIFIED:20230123T224537Z
UID:7105-1676446200-1676451600@www.dbiamidamerica.org
SUMMARY:Nebraska | Urban Design Matters: How the City We Shape\, Shapes Us
DESCRIPTION:Presentation Featuring: \nScott Dobbe\, Executive Director of Omaha by Design \nDiscussion Topic: \nAs professionals in the construction\, design\, and engineering fields\, our work quite literally shapes the city we inhabit. Highlighting current developments in the urban core\, Scott will describe opportunities to strengthen the built environment we are creating\, including how the nonprofit Omaha by Design works to enable and inspire this more vibrant and livable city – for all. \n  \n \n
URL:https://www.dbiamidamerica.org/event/nebraska-urban-design-matters-how-the-city-we-shape-shapes-us/
LOCATION:Scott Conference Center\, 6450 Pine Street\, Omaha\, NE\, 68106
CATEGORIES:Education,Mid-America Region,Nebraska
END:VEVENT
END:VCALENDAR