BEGIN:VCALENDAR
VERSION:2.0
PRODID:-//DBIA-MAR - ECPv4.7.4//NONSGML v1.0//EN
CALSCALE:GREGORIAN
METHOD:PUBLISH
X-WR-CALNAME:DBIA-MAR
X-ORIGINAL-URL:https://www.dbiamidamerica.org
X-WR-CALDESC:Events for DBIA-MAR
BEGIN:VEVENT
DTSTART;TZID=America/Chicago:20230621T160000
DTEND;TZID=America/Chicago:20230621T183000
DTSTAMP:20260423T005843
CREATED:20230516T144614Z
LAST-MODIFIED:20230516T144614Z
UID:7416-1687363200-1687372200@www.dbiamidamerica.org
SUMMARY:St. Louis | Design-Build & Brews Happy Hour
DESCRIPTION:The folks at O’Fallon Brewery love beer…We love design-build. Let’s put the two together and make the perfect combo! Join us along with your Design-Build partners for this fun summer social. \nYou won’t want to miss O’Fallon Brewery’s latest flavors being released in June! \n  \n
URL:https://www.dbiamidamerica.org/event/st-louis-design-build-brews-happy-hour/
LOCATION:45 Progress Parkway\, 45 Progress Parkway\, Maryland Heights\, MO
CATEGORIES:Mid-America Region,St. Louis
END:VEVENT
END:VCALENDAR