BEGIN:VCALENDAR
VERSION:2.0
PRODID:-//DBIA-MAR - ECPv4.7.4//NONSGML v1.0//EN
CALSCALE:GREGORIAN
METHOD:PUBLISH
X-WR-CALNAME:DBIA-MAR
X-ORIGINAL-URL:https://www.dbiamidamerica.org
X-WR-CALDESC:Events for DBIA-MAR
BEGIN:VEVENT
DTSTART;TZID=America/Chicago:20230524T073000
DTEND;TZID=America/Chicago:20230524T090000
DTSTAMP:20260423T030041
CREATED:20221220T165702Z
LAST-MODIFIED:20230501T180755Z
UID:7029-1684913400-1684918800@www.dbiamidamerica.org
SUMMARY:Nebraska | UNMC/Nebraska Medicine
DESCRIPTION:Masterplan Update \nPresentation Featuring: \nBrian Spencer – Executive Director of Campus Development & Real Estate – Nebraska Medicine and UNMC \nBrian Johnson – Manager of Construction Project Team – Nebraska Medicine and UNMC \nDiscussion Topic:\nAn update on the campus masterplan program to meet changing demands in healthcare\, research and health sciences education and an update on construction project procurement. \n  \n
URL:https://www.dbiamidamerica.org/event/nebraska-unmc/
LOCATION:Scott Conference Center\, 6450 Pine Street\, Omaha\, NE\, 68106
CATEGORIES:Mid-America Region,Nebraska
END:VEVENT
END:VCALENDAR