BEGIN:VCALENDAR
VERSION:2.0
PRODID:-//DBIA-MAR - ECPv4.7.4//NONSGML v1.0//EN
CALSCALE:GREGORIAN
METHOD:PUBLISH
X-WR-CALNAME:DBIA-MAR
X-ORIGINAL-URL:https://www.dbiamidamerica.org
X-WR-CALDESC:Events for DBIA-MAR
BEGIN:VEVENT
DTSTART;TZID=America/Chicago:20230628T153000
DTEND;TZID=America/Chicago:20230628T173000
DTSTAMP:20260423T035327
CREATED:20221220T165835Z
LAST-MODIFIED:20230619T181845Z
UID:7033-1687966200-1687973400@www.dbiamidamerica.org
SUMMARY:Nebraska | Methodist Women's Hospital NICU Expansion Project Tour
DESCRIPTION: The Methodist Women’s Hospital NICU expansion is a vertical expansion on top of the West side of the hospital. This new expansion consists of 11\,000 square feet and includes 14 new patient rooms and a penthouse mechanical room. The project is being built above an active labor and delivery floor and adjacent to the active NICU. Major challenges of the project include controlling noise and vibration levels caused by construction work in an active hospital. \nOwner: Methodist Health Systems\nArchitect: Holland Basham Architects\nGeneral Contractor: The Graham Group Inc. – Construction Division \n**Personal protective equipment is limited on the jobsite. Please bring your own** \nHappy Hour to follow at Lazlo’s Brewery in the Hickory Room. (2425 S 192nd Ave\, Omaha\, NE 68130) \n
URL:https://www.dbiamidamerica.org/event/nebraska-program-2/
LOCATION:701 N. 190th Plaza\, Elkhorn\, NE\, 68022
CATEGORIES:Mid-America Region,Nebraska
END:VEVENT
END:VCALENDAR