BEGIN:VCALENDAR
VERSION:2.0
PRODID:-//DBIA-MAR - ECPv4.7.4//NONSGML v1.0//EN
CALSCALE:GREGORIAN
METHOD:PUBLISH
X-WR-CALNAME:DBIA-MAR
X-ORIGINAL-URL:https://www.dbiamidamerica.org
X-WR-CALDESC:Events for DBIA-MAR
BEGIN:VEVENT
DTSTART;TZID=America/Chicago:20221130T073000
DTEND;TZID=America/Chicago:20221130T090000
DTSTAMP:20260423T065750
CREATED:20220216T154738Z
LAST-MODIFIED:20221117T165914Z
UID:6175-1669793400-1669798800@www.dbiamidamerica.org
SUMMARY:Nebraska | North & South Omaha Economic Recover Act Coordination Plan
DESCRIPTION:Presentation Featuring: \nMichael C. Piernicky\, PE \nVice President – Olsson \nDiscussion Topic: \nThe presentation will discuss the Federal ARPA funding that is coming to North and South Omaha through LB 1024. History of LB 1024\, Overview of Goals\, Program Description/Process\, Path Forward through the next Legislative session. \n  \n  \n  \nEvent Sponsor \n \n
URL:https://www.dbiamidamerica.org/event/nebraska-nov22/
LOCATION:Scott Conference Center\, 6450 Pine Street\, Omaha\, NE\, 68106
CATEGORIES:Nebraska
END:VEVENT
END:VCALENDAR