BEGIN:VCALENDAR
VERSION:2.0
PRODID:-//DBIA-MAR - ECPv4.7.4//NONSGML v1.0//EN
CALSCALE:GREGORIAN
METHOD:PUBLISH
X-WR-CALNAME:DBIA-MAR
X-ORIGINAL-URL:https://www.dbiamidamerica.org
X-WR-CALDESC:Events for DBIA-MAR
BEGIN:VEVENT
DTSTART;TZID=America/Chicago:20230426T073000
DTEND;TZID=America/Chicago:20230426T090000
DTSTAMP:20260423T054253
CREATED:20221220T165618Z
LAST-MODIFIED:20230410T191904Z
UID:7027-1682494200-1682499600@www.dbiamidamerica.org
SUMMARY:Nebraska | Offutt AFB Natural Disaster Recovery Program
DESCRIPTION:Air Force Civil Engineer Center \nPresentation Featuring: \nDonald Fucik PE GS-14 \nDAF Project Manager AFCEC/CFMD \nDiscussion Topic:\nOffutt AFB suffered a major flood in March 2019.  This presentation will detail the flood recovery efforts to rebuild Offutt AFB to make it a more resilient to potential flooding events in the future. \n  \n  \n
URL:https://www.dbiamidamerica.org/event/nebraska-april23/
LOCATION:Scott Conference Center\, 6450 Pine Street\, Omaha\, NE\, 68106
CATEGORIES:Mid-America Region,Nebraska
END:VEVENT
END:VCALENDAR