BEGIN:VCALENDAR
VERSION:2.0
PRODID:-//DBIA-MAR - ECPv4.7.4//NONSGML v1.0//EN
CALSCALE:GREGORIAN
METHOD:PUBLISH
X-WR-CALNAME:DBIA-MAR
X-ORIGINAL-URL:https://www.dbiamidamerica.org
X-WR-CALDESC:Events for DBIA-MAR
BEGIN:VEVENT
DTSTART;TZID=America/Chicago:20220420T073000
DTEND;TZID=America/Chicago:20220420T090000
DTSTAMP:20260423T082635
CREATED:20220216T154516Z
LAST-MODIFIED:20220411T191502Z
UID:6165-1650439800-1650445200@www.dbiamidamerica.org
SUMMARY:Nebraska | Creighton Werner Health Sciences Project
DESCRIPTION:RDG Planning & Design \nPresentation Featuring:\nBrian Halsey\, AIA\, NCARB\, LEED AP\nPartner\, Project Manager\nRDG Planning & Design \nDiscussion Topic: \nCL Werner Center at Creighton University\nAn Architect’s perspective on early CM and Trade Partner Engagement \n  \n
URL:https://www.dbiamidamerica.org/event/nebraska-april22/
LOCATION:Scott Conference Center\, 6450 Pine Street\, Omaha\, NE\, 68106
CATEGORIES:Nebraska
END:VEVENT
END:VCALENDAR