BEGIN:VCALENDAR
VERSION:2.0
PRODID:-//DBIA-MAR - ECPv4.7.4//NONSGML v1.0//EN
CALSCALE:GREGORIAN
METHOD:PUBLISH
X-WR-CALNAME:DBIA-MAR
X-ORIGINAL-URL:https://www.dbiamidamerica.org
X-WR-CALDESC:Events for DBIA-MAR
BEGIN:VEVENT
DTSTART;TZID=America/Chicago:20220929T170000
DTEND;TZID=America/Chicago:20220929T170000
DTSTAMP:20260423T052513
CREATED:20220216T194836Z
LAST-MODIFIED:20220216T194836Z
UID:6298-1664470800-1664470800@www.dbiamidamerica.org
SUMMARY:MAR | 2022 Award Winners Notified
DESCRIPTION:
URL:https://www.dbiamidamerica.org/event/mar-2022-award-winners-notified/
END:VEVENT
END:VCALENDAR