BEGIN:VCALENDAR
VERSION:2.0
PRODID:-//DBIA-MAR - ECPv4.7.4//NONSGML v1.0//EN
CALSCALE:GREGORIAN
METHOD:PUBLISH
X-WR-CALNAME:DBIA-MAR
X-ORIGINAL-URL:https://www.dbiamidamerica.org
X-WR-CALDESC:Events for DBIA-MAR
BEGIN:VEVENT
DTSTART;TZID=America/Chicago:20220712T190500
DTEND;TZID=America/Chicago:20220712T210500
DTSTAMP:20260423T054447
CREATED:20220608T193225Z
LAST-MODIFIED:20220627T192256Z
UID:6617-1657652700-1657659900@www.dbiamidamerica.org
SUMMARY:Kansas | Wichita Wind Surge Game
DESCRIPTION:Come join the DBIA-KS Wichita Chapter at the Riverfront stadium to watch a Wind Surge game and network! \nAppetizers will be provided. \nRegistration is available for 16 people. \n  \n  \n
URL:https://www.dbiamidamerica.org/event/kansas-wichita-wind-surge-game/
LOCATION:Riverfront Stadium\, 275 S McLean Blvd.\, Wichita\, KS\, 67213
CATEGORIES:Kansas
END:VEVENT
END:VCALENDAR