BEGIN:VCALENDAR
VERSION:2.0
PRODID:-//DBIA-MAR - ECPv4.7.4//NONSGML v1.0//EN
CALSCALE:GREGORIAN
METHOD:PUBLISH
X-WR-CALNAME:DBIA-MAR
X-ORIGINAL-URL:https://www.dbiamidamerica.org
X-WR-CALDESC:Events for DBIA-MAR
BEGIN:VEVENT
DTSTART;TZID=America/Chicago:20221215T160000
DTEND;TZID=America/Chicago:20221215T180000
DTSTAMP:20260423T041827
CREATED:20221207T234857Z
LAST-MODIFIED:20221207T234908Z
UID:6996-1671120000-1671127200@www.dbiamidamerica.org
SUMMARY:Kansas | Next Gen Social Hour
DESCRIPTION:Come join us for the last social hour of the year! On December 15th we will be at Peerless on Douglas and Washington from 4-6PM. Drinks will be free! Hope to see you there! Please use the\nlink below to register! \n  \n  \n  \n \n
URL:https://www.dbiamidamerica.org/event/kansas-next-gen-social-hour/
LOCATION:Peerless\, 919 E Douglas\, Wichita\, KS
CATEGORIES:Kansas,Next Gen
END:VEVENT
END:VCALENDAR