BEGIN:VCALENDAR
VERSION:2.0
PRODID:-//DBIA-MAR - ECPv4.7.4//NONSGML v1.0//EN
CALSCALE:GREGORIAN
METHOD:PUBLISH
X-WR-CALNAME:DBIA-MAR
X-ORIGINAL-URL:https://www.dbiamidamerica.org
X-WR-CALDESC:Events for DBIA-MAR
BEGIN:VEVENT
DTSTART;TZID=America/Chicago:20240131T160000
DTEND;TZID=America/Chicago:20240131T180000
DTSTAMP:20260422T204006
CREATED:20231221T200511Z
LAST-MODIFIED:20240103T154701Z
UID:7872-1706716800-1706724000@www.dbiamidamerica.org
SUMMARY:Kansas | Sponsor Spotlight & Social at BHC in Wichita
DESCRIPTION:Come join the DBIA Kansas Chapter for a FREE social event at the newly remodeled BHC office in Wichita! \nNetwork with industry professionals and socialize with friends! Snacks and beverages provided. Bring a business card to be entered into a prize drawing. \n  \n  \n
URL:https://www.dbiamidamerica.org/event/kansas-jan/
LOCATION:BHC Wichita\, 165 S. Rock Island\, Suite 150\, Wichita\, KS
CATEGORIES:Kansas,Mid-America Region
END:VEVENT
END:VCALENDAR