BEGIN:VCALENDAR
VERSION:2.0
PRODID:-//DBIA-MAR - ECPv4.7.4//NONSGML v1.0//EN
CALSCALE:GREGORIAN
METHOD:PUBLISH
X-WR-CALNAME:DBIA-MAR
X-ORIGINAL-URL:https://www.dbiamidamerica.org
X-WR-CALDESC:Events for DBIA-MAR
BEGIN:VEVENT
DTSTART;TZID=America/Chicago:20241205T154500
DTEND;TZID=America/Chicago:20241205T174500
DTSTAMP:20260423T054747
CREATED:20241119T190258Z
LAST-MODIFIED:20241119T190258Z
UID:8425-1733413500-1733420700@www.dbiamidamerica.org
SUMMARY:Iowa | Topgolf Winter Social
DESCRIPTION: \n
URL:https://www.dbiamidamerica.org/event/iowa-topgolf-winter-social/
LOCATION:Topgolf\, 7680 Coachlight Dr.\, West Des Moines\, Iowa\, 50266
CATEGORIES:Iowa,Mid-America Region
END:VEVENT
END:VCALENDAR