BEGIN:VCALENDAR
VERSION:2.0
PRODID:-//DBIA-MAR - ECPv4.7.4//NONSGML v1.0//EN
CALSCALE:GREGORIAN
METHOD:PUBLISH
X-WR-CALNAME:DBIA-MAR
X-ORIGINAL-URL:https://www.dbiamidamerica.org
X-WR-CALDESC:Events for DBIA-MAR
BEGIN:VEVENT
DTSTART;TZID=America/Chicago:20240417T160000
DTEND;TZID=America/Chicago:20240417T180000
DTSTAMP:20260423T025546
CREATED:20240409T143846Z
LAST-MODIFIED:20240409T143846Z
UID:8121-1713369600-1713376800@www.dbiamidamerica.org
SUMMARY:Iowa | ISU Feed Mill Tour
DESCRIPTION:Please join DBIA Iowa and the ISU DBIA Student chapter for a tour of the Iowa State University Kent Feed Mill and Grain Science Complex in Ames. The complex features an educational building\, pilot plant\, milling tower\, pelleting plant\, and steel grain storage with handling and drying system. \nThis will be a great opportunity for students and industry members to tour a Design Build project that brings a unique combination of agricultural\, industrial\, and institutional building types. \n  \n  \n  \n \n
URL:https://www.dbiamidamerica.org/event/iowa-isu-feed-mill-tour/
LOCATION:ISU Feed Mill\, 1873 State Ave.\, Ames\, Iowa\, 50014
CATEGORIES:Education,Iowa,Mid-America Region,Next Gen
END:VEVENT
END:VCALENDAR