BEGIN:VCALENDAR
VERSION:2.0
PRODID:-//DBIA-MAR - ECPv4.7.4//NONSGML v1.0//EN
CALSCALE:GREGORIAN
METHOD:PUBLISH
X-WR-CALNAME:DBIA-MAR
X-ORIGINAL-URL:https://www.dbiamidamerica.org
X-WR-CALDESC:Events for DBIA-MAR
BEGIN:VEVENT
DTSTART;TZID=America/Chicago:20251105T173000
DTEND;TZID=America/Chicago:20251105T193000
DTSTAMP:20260423T105730
CREATED:20250930T183607Z
LAST-MODIFIED:20250930T183802Z
UID:9103-1762363800-1762371000@www.dbiamidamerica.org
SUMMARY:MAR | Winners Happy Hour at Losers Bar - MGM Grand Las Vegas
DESCRIPTION: \n
URL:https://www.dbiamidamerica.org/event/25nchappyhour/
LOCATION:Losers Bar at MGM Grand\, MGM Grand\, 3799 S Las Vegas Blvd.\, Las Vegas\, NV\, 89109
CATEGORIES:Mid-America Region
END:VEVENT
END:VCALENDAR