BEGIN:VCALENDAR
VERSION:2.0
PRODID:-//DBIA-MAR - ECPv4.7.4//NONSGML v1.0//EN
CALSCALE:GREGORIAN
METHOD:PUBLISH
X-WR-CALNAME:DBIA-MAR
X-ORIGINAL-URL:https://www.dbiamidamerica.org
X-WR-CALDESC:Events for DBIA-MAR
BEGIN:VEVENT
DTSTART;TZID=America/Chicago:20260129T080000
DTEND;TZID=America/Chicago:20260129T170000
DTSTAMP:20260422T234931
CREATED:20260129T204814Z
LAST-MODIFIED:20260129T204814Z
UID:9398-1769673600-1769706000@www.dbiamidamerica.org
SUMMARY:2026 Award Entries Due
DESCRIPTION:For more than 25 years\, the Design-Build Institute of America Mid-America Region (DBIA-MAR) has recognized excellence in design-build practices and informed the public of the breadth and value of design-build delivery. We are pleased to invite you to submit your design-build project(s) for the 2026 DBIA-MAR Awards Competition. \nSubmissions due by 5 p.m. (CST) on August 21\, 2026. \n  \n \nDownload Call for Entries. \n
URL:https://www.dbiamidamerica.org/event/2026-award-entries-due/
END:VEVENT
END:VCALENDAR